BEGIN:VCALENDAR
VERSION:2.0
PRODID:-//Zentrum für integrative ISTDP - ECPv6.15.20//NONSGML v1.0//EN
CALSCALE:GREGORIAN
METHOD:PUBLISH
X-WR-CALNAME:Zentrum für integrative ISTDP
X-ORIGINAL-URL:https://www.zentrum-istdp.de
X-WR-CALDESC:Veranstaltungen für Zentrum für integrative ISTDP
REFRESH-INTERVAL;VALUE=DURATION:PT1H
X-Robots-Tag:noindex
X-PUBLISHED-TTL:PT1H
BEGIN:VTIMEZONE
TZID:Europe/Paris
BEGIN:DAYLIGHT
TZOFFSETFROM:+0100
TZOFFSETTO:+0200
TZNAME:CEST
DTSTART:20240331T010000
END:DAYLIGHT
BEGIN:STANDARD
TZOFFSETFROM:+0200
TZOFFSETTO:+0100
TZNAME:CET
DTSTART:20241027T010000
END:STANDARD
BEGIN:DAYLIGHT
TZOFFSETFROM:+0100
TZOFFSETTO:+0200
TZNAME:CEST
DTSTART:20250330T010000
END:DAYLIGHT
BEGIN:STANDARD
TZOFFSETFROM:+0200
TZOFFSETTO:+0100
TZNAME:CET
DTSTART:20251026T010000
END:STANDARD
BEGIN:DAYLIGHT
TZOFFSETFROM:+0100
TZOFFSETTO:+0200
TZNAME:CEST
DTSTART:20260329T010000
END:DAYLIGHT
BEGIN:STANDARD
TZOFFSETFROM:+0200
TZOFFSETTO:+0100
TZNAME:CET
DTSTART:20261025T010000
END:STANDARD
END:VTIMEZONE
BEGIN:VEVENT
DTSTART;TZID=Europe/Paris:20250829T150000
DTEND;TZID=Europe/Paris:20250830T180000
DTSTAMP:20260425T004320
CREATED:20240727T072314Z
LAST-MODIFIED:20250627T124405Z
UID:4501-1756479600-1756576800@www.zentrum-istdp.de
SUMMARY:Einführungskurs 2025.1
DESCRIPTION:Einführungskurs Intensive Psychodynamische Kurzzeittherapie (ISTDP) \n  \nIntensive Psychodynamische Kurzzeittherapie (ISTDP) \nDie ISTDP ist eine emotions- und übertragungsorientierte Therapiemethode\, welche auf psychoanalytischem Boden gewachsen ist und in den 1960er Jahren von H. Davanloo in Montreal/ Kanada entwickelt wurde. \nDie zentralen Wirkfaktoren von Psychotherapie nach GRAWE werden in der ISTDP in besonderer Weise umgesetzt und stellen auf dieser Ebene die Verbindung zu den neueren Entwicklungen der Verhaltenstherapie\, wie auch systemischen und humanistischen Therapieansätzen dar. Damit wird ein kollegiales Arbeiten über Schulengrenzen hinweg möglich. Die in der ISTDP übliche Videodokumentation bietet eine transparente\,  evidente und objektivierbare Möglichkeit\, sich gegenseitig in wohlwollender Atmosphäre beim Lernen zu unterstützen. \nDurch die konkreten emotional korrigierenden Erfahrungen im Hier und Jetzt der Therapiesituation und unter  Einbezug unbewussten Materials wird es den Patient*innen durch die ISTDP möglich\, langfristige strukturelle Veränderungen zu erreichen. \nNach der Einführung in die Theorie und die spezifischen Interventionstechniken erhalten die  Kursteilnehmer*innen durch audiovisuelle Fallbeispiele einen lebendigen Zugang zur Methode. Außerdem wird den Teilnehmer*innen die Gelegenheit geboten\, sich im Rollenspiel den unbewussten Konflikten ihrer Patient*innen zu nähern und erste Erfahrungen im Umgang mit dem direkten Zugang zum unbewussten Material zu sammeln. \nWas können TeilnehmerInnen lernen? \n\nZügig eine intensive therapeutische Arbeitsbeziehung aufbauen und einen Zugang zum unbewussten Konflikt finden.\nAngst und Abwehrmechanismen präzise analysieren.\nSpezifische hochwirksame Interventionsformen der ISTDP kennenlernen.\nZugang zu verdrängten pathogen wirksamen Gefühlen schaffen.\nDem Patienten helfen\, diese Gefühle im Hier und Jetzt der therapeutischen Beziehung zu erleben.\nDie unbewusste Dynamik unserer Patienten zu verstehen und gemeinsam mit ihnen daraus für die Patientin innerlich stimmige und problemlösende Verhaltensmöglichkeiten entwickeln.\n\n\nWissenschaftliche Leitung:  \nDipl.-Psych. Yvonne Hänsch \n\nTiefenpsychologisch fundierte Psychotherapie\nGeprüfte Transaktionsanalytikerin\nSupervisorin BDP\nDozentin der Integrativen Gesellschaft für ISTDP\n\n  \n  \nZeit: 29.08.2025 15-20 Uhr    30.08.2025 09-18 Uhr\n\nVeranstaltungsort:  \nGeschäftsstelle des Zentrums für integrative ISTDP\, Alttrachau 35\, 01139 Dresden \nAnmeldung:  \nbitte per eMail an info@ig-istdp.de \nTeilnahmevoraussetzungen:  \nApprobation als Ärzt*in\,  Psychotherapeut*in oder Kinder- und Jugendlichentherapeut*in oder Nachweis der Erlaubnis zur Ausübung der Heilkunde/Psychotherapie in Verbindung mit einem abgeschlossenen Hochschulstudium \nKosten:  \n400\,00 € \nErmäßigung auf Anfrage möglich. Stornierungsbedingungen finden Sie auf unserer Website www.ig-istdp.de. \nDie Teilnahmegebühr überweisen Sie bitte nach Erhalt der Rechnung. \nVerpflegung:\n \nGetränke und Imbiss sind im Preis enthalten. \nWeiterbildungspunkte \nsind bei der Ostdeutschen Psychotherapeutenkammer beantragt beantragt und auch für ärztliche PsychotherapeutInnen anrechenbar. \nEine wichtige Bitte: \nBitte lassen Sie sich in unserem elektronischen Verteiler registrieren\, um zukünftig Informationen über Veranstaltungen zu erhalten. Senden Sie uns eine E-Mail unter dem Stichwort „Verteiler“ an info@ig-istdp.de \nZum Datenschutz siehe https://www.ig-istdp.de/datenschutz/ \nDownload Flyer
URL:https://www.zentrum-istdp.de/events/einfuehrungskurs-2025-1
LOCATION:Geschäftsstelle Zentrum für integrative ISTDP\, Alttrachau 35\, Dresden\, 01139
CATEGORIES:Einführung
ATTACH;FMTTYPE=image/png:https://www.zentrum-istdp.de/wp-content/uploads/2022/10/Alttrachau.png
ORGANIZER;CN="Zentrum f%C3%BCr integrative ISTDP":MAILTO:info@ig-istdp.de
END:VEVENT
END:VCALENDAR