BEGIN:VCALENDAR
VERSION:2.0
PRODID:-//Zentrum für integrative ISTDP - ECPv6.15.20//NONSGML v1.0//EN
CALSCALE:GREGORIAN
METHOD:PUBLISH
X-WR-CALNAME:Zentrum für integrative ISTDP
X-ORIGINAL-URL:https://www.zentrum-istdp.de
X-WR-CALDESC:Veranstaltungen für Zentrum für integrative ISTDP
REFRESH-INTERVAL;VALUE=DURATION:PT1H
X-Robots-Tag:noindex
X-PUBLISHED-TTL:PT1H
BEGIN:VTIMEZONE
TZID:Europe/Paris
BEGIN:DAYLIGHT
TZOFFSETFROM:+0100
TZOFFSETTO:+0200
TZNAME:CEST
DTSTART:20240331T010000
END:DAYLIGHT
BEGIN:STANDARD
TZOFFSETFROM:+0200
TZOFFSETTO:+0100
TZNAME:CET
DTSTART:20241027T010000
END:STANDARD
BEGIN:DAYLIGHT
TZOFFSETFROM:+0100
TZOFFSETTO:+0200
TZNAME:CEST
DTSTART:20250330T010000
END:DAYLIGHT
BEGIN:STANDARD
TZOFFSETFROM:+0200
TZOFFSETTO:+0100
TZNAME:CET
DTSTART:20251026T010000
END:STANDARD
BEGIN:DAYLIGHT
TZOFFSETFROM:+0100
TZOFFSETTO:+0200
TZNAME:CEST
DTSTART:20260329T010000
END:DAYLIGHT
BEGIN:STANDARD
TZOFFSETFROM:+0200
TZOFFSETTO:+0100
TZNAME:CET
DTSTART:20261025T010000
END:STANDARD
END:VTIMEZONE
BEGIN:VEVENT
DTSTART;TZID=Europe/Paris:20250905T150000
DTEND;TZID=Europe/Paris:20250906T180000
DTSTAMP:20260424T232050
CREATED:20240727T071646Z
LAST-MODIFIED:20241208T131005Z
UID:4496-1757084400-1757181600@www.zentrum-istdp.de
SUMMARY:Aufbaukurs 2025.4
DESCRIPTION:Intensive Psychodynamische Kurzzeittherapie (ISTDP) \nDie ISTDP nach Davanloo ist ein videogestütztes\, psychodynamisches\, emotions- und übertragungsfokussiertes Therapieverfahren\, welches  sich durch seine hohe Effizienz auszeichnet. \nBesonderen Wert legen wir auf eine offene\, kollegiale Atmosphäre. Damit wird ein entspanntes\, lehrreiches Arbeiten und Lernen mit dem Videomaterial möglich. \nInhalte: \nDie Struktur des Aufbaukurses besteht aus Video– und Theoriepräsentationen der Dozentin und der TeilnehmerInnen\, Trainingseinheiten und Supervisionseinheiten. \nDer präzise Umgang mit Angst und Widerständen wird intensiv trainiert. Die Themenauswahl  erfolgt in Abstimmung mit den TeilnehmerInnen. Die TeilnehmerInnen bringen regelmäßig Videomaterial ihrer Arbeit zur Supervision mit. \nWissenschaftliche Leitung:  \nDipl.-Psych. Yvonne Hänsch \n\nTiefenpsychologisch fundierte Psychotherapie\nGeprüfte Transaktionsanalytikerin\nSupervisorin BDP\nDozentin der Integrativen Gesellschaft für ISTDP\n\nDr. Lutz Schneider\n \n\nTiefenpsychologisch fundierte und analytische Psychotherapie\ngeprüfter ISTDP-Therapeut\nSupervisor\n\n  \nOrganisation: \nDie Jahresweiterbildung umfasst 5 Wochenenden im Jahr\, jeweils Freitag und Samstag.\n\nVeranstaltungsort: Geschäftsstelle der IG-ISTDP e.V.\, Alttrachau 35\, 01139 Dresden \nTermine und Zeiten \n\n24./25.01.2025\n28./29.03.2025\n23./24.05.2025\n05./06.09.2025\n07./08.11.2025\n\nFreitag  jeweils 15-20 Uhr\, Samstag jeweils 9-18 Uhr \nWeiterbildungspunkte \nsind bei der Ostdeutschen Psychotherapeutenkammer beantragt beantragt und auch für ärztliche PsychotherapeutInnen anrechenbar. \nAnmeldung: bitte per eMail an info@ig-istdp.de \nTeilnahmevoraussetzungen:  \n\nApprobation als ÄrztIn\, PsychotherapeutIn oder Kinder- und JugendlichentherapeutIn oder Nachweis der Erlaubnis zur Ausübung der Heilkunde/Psychotherapie in Verbindung mit einem abgeschlossenen Hochschulstudium.\nBereitschaft zur verbindlichen Teilnahme während eines Jahres.\nMindestens 2-jährige Ausbildung im Grundkurs oder vergleichbare Ausbildung in ISTDP.\n\nTeilnehmerzahl: \nMax. 15 \nKosten:\n \n1.880\,00 € pro Jahr für Mitglieder der IG-ISTDP e.V.\, 2.000\,00 € pro Jahr für Nichtmitglieder.\nErmäßigung auf Anfrage möglich. Stornierungsbedingungen finden Sie auf unserer Website www.ig-istdp.de. \nDie Teilnahmegebühr überweisen Sie bitte nach Erhalt der Rechnung. \nVerpflegung:\n \nGetränke und Imbiss sind im Preis enthalten.\nGegen einen Unkostenbeitrag von 7\,50 Euro p.P. kann für Samstag ein warmes Mittagessen bestellt werden. \nEine wichtige Bitte: \nBitte lassen Sie sich in unserem elektronischen Verteiler registrieren\, um zukünftig Informationen über Veranstaltungen zu erhalten. Senden Sie uns eine E-Mail unter dem Stichwort „Verteiler“ an info@ig-istdp.de \nZum Datenschutz siehe https://www.ig-istdp.de/datenschutz/ \nDownload Flyer \n 
URL:https://www.zentrum-istdp.de/events/aufbaukurs-2025-4
LOCATION:Geschäftsstelle Zentrum für integrative ISTDP\, Alttrachau 35\, Dresden\, 01139
CATEGORIES:Aufbaukurs
ATTACH;FMTTYPE=image/png:https://www.zentrum-istdp.de/wp-content/uploads/2022/10/Alttrachau.png
ORGANIZER;CN="Zentrum f%C3%BCr integrative ISTDP":MAILTO:info@ig-istdp.de
END:VEVENT
BEGIN:VEVENT
DTSTART;TZID=Europe/Paris:20250912T150000
DTEND;TZID=Europe/Paris:20250913T180000
DTSTAMP:20260424T232050
CREATED:20240727T070732Z
LAST-MODIFIED:20241214T083417Z
UID:4486-1757689200-1757786400@www.zentrum-istdp.de
SUMMARY:Grundkurs 2025-1.4
DESCRIPTION:Intensive Psychodynamische Kurzzeittherapie (ISTDP) \nDie ISTDP nach Davanloo ist ein videogestütztes\, psychodynamisches\, emotions- und übertragungsfokussiertes Therapieverfahren\, welches  sich durch seine hohe Effizienz auszeichnet. \nBesonderen Wert legen wir auf eine offene\, kollegiale Atmosphäre. Damit wird ein entspanntes\, lehrreiches Arbeiten und Lernen mit dem Videomaterial möglich. \nInhalte: \nIm  Kurs werden systematisch Technik und Metapsychologie der Intensiven Psychodynamischen Kurzzeittherapie nach Davanloo vermittelt.  Jeder Teilnehmer erhält außerdem an jedem Ausbildungswochenende die Möglichkeit\, Supervision für die eigene Arbeit zu erhalten. Dafür werden mitgebrachte Videoaufzeichnungen und auch Rollenspiele genutzt. Wir achten besonders auf sehr praxisnahe Vermittlung der Methode.\n\nWissenschaftliche Leitung:  \nDipl.-Psych. Yvonne Hänsch \n\nTiefenpsychologisch fundierte Psychotherapie\nGeprüfte Transaktionsanalytikerin\nSupervisorin\nDozentin der Integrativen Gesellschaft für ISTDP\n\n\nDr. Lutz Schneider \n\nTiefenpsychologisch fundierte und analytische Psychotherapie\ngeprüfter ISTDP-Therapeut\nSupervisor\n\n  \n  \nOrganisation: \nDie Jahresweiterbildung umfasst 5 Wochenenden im Jahr\, jeweils Freitag und Samstag.\n\nVeranstaltungsort: Geschäftsstelle der IG-ISTDP e.V.\, Alttrachau 35\, 01139 Dresden \nTermine und Zeiten \n\n17./18.01.2025\n21./22.03.2025\n09./10.05.2025\n12./13.09.2025\n14./15.11.2025\n\nFreitag  jeweils 15-20 Uhr\, Samstag jeweils 9-18 Uhr \nWeiterbildungspunkte \nsind bei der Ostdeutschen Psychotherapeutenkammer beantragt beantragt und auch für ärztliche PsychotherapeutInnen anrechenbar. \nAnmeldung: bitte per eMail an info@ig-istdp.de \nTeilnahmevoraussetzungen:  \n\nApprobation als ÄrztIn\, PsychotherapeutIn oder Kinder- und JugendlichentherapeutIn oder Nachweis der Erlaubnis zur Ausübung der Heilkunde/Psychotherapie in Verbindung mit einem abgeschlossenen Hochschulstudium.\nBereitschaft zur verbindlichen Teilnahme während eines Jahres.\n\nFür Neueinsteiger ist die kostenpflichtige Teilnahme an einem Wochenende zum Kennenlernen möglich\, sofern freie Plätze vorhanden sind. \nTeilnehmerzahl: \nMax. 15 \nKosten:\n \n1.880\,00 € pro Jahr für Mitglieder der IG-ISTDP e.V.\, 2.000\,00 € pro Jahr für Nichtmitglieder.\nErmäßigung auf Anfrage möglich. Stornierungsbedingungen finden Sie auf unserer Website www.ig-istdp.de. \nDie Teilnahmegebühr überweisen Sie bitte nach Erhalt der Rechnung. \nVerpflegung:\n \nGetränke und Imbiss sind im Preis enthalten.\nGegen einen Unkostenbeitrag von 7\,50 Euro p.P. kann für Samstag ein warmes Mittagessen bestellt werden. \nEine wichtige Bitte: \nBitte lassen Sie sich in unserem elektronischen Verteiler registrieren\, um zukünftig Informationen über Veranstaltungen zu erhalten. Senden Sie uns eine E-Mail unter dem Stichwort „Verteiler“ an info@ig-istdp.de \nZum Datenschutz siehe https://www.ig-istdp.de/datenschutz/ \nDownload Flyer
URL:https://www.zentrum-istdp.de/events/grundkurs-2025-4
LOCATION:Geschäftsstelle Zentrum für integrative ISTDP\, Alttrachau 35\, Dresden\, 01139
CATEGORIES:Grundkurs
ATTACH;FMTTYPE=image/png:https://www.zentrum-istdp.de/wp-content/uploads/2022/10/Alttrachau.png
ORGANIZER;CN="Zentrum f%C3%BCr integrative ISTDP":MAILTO:info@ig-istdp.de
END:VEVENT
BEGIN:VEVENT
DTSTART;TZID=Europe/Paris:20250919T150000
DTEND;TZID=Europe/Paris:20250920T180000
DTSTAMP:20260424T232050
CREATED:20241214T083152Z
LAST-MODIFIED:20241223T090433Z
UID:4575-1758294000-1758391200@www.zentrum-istdp.de
SUMMARY:Grundkurs 2025-2.4
DESCRIPTION:Intensive Psychodynamische Kurzzeittherapie (ISTDP) \nDie ISTDP nach Davanloo ist ein videogestütztes\, psychodynamisches\, emotions- und übertragungsfokussiertes Therapieverfahren\, welches  sich durch seine hohe Effizienz auszeichnet. \nBesonderen Wert legen wir auf eine offene\, kollegiale Atmosphäre. Damit wird ein entspanntes\, lehrreiches Arbeiten und Lernen mit dem Videomaterial möglich. \nInhalte: \nIm  Kurs werden systematisch Technik und Metapsychologie der Intensiven Psychodynamischen Kurzzeittherapie nach Davanloo vermittelt.  Jeder Teilnehmer erhält außerdem an jedem Ausbildungswochenende die Möglichkeit\, Supervision für die eigene Arbeit zu erhalten. Dafür werden mitgebrachte Videoaufzeichnungen und auch Rollenspiele genutzt. Wir achten besonders auf sehr praxisnahe Vermittlung der Methode.\n\nWissenschaftliche Leitung:  \nDipl.-Psych. Yvonne Hänsch \n\nTiefenpsychologisch fundierte Psychotherapie\nGeprüfte Transaktionsanalytikerin\nSupervisorin\nDozentin der Integrativen Gesellschaft für ISTDP\n\n  \nDr. Katrin Dumalin-Kliesow \n\nVerhaltenstherapie (Erwachsene\, Kinder\, Jugendliche)\nGeprüfte ISTDP-Therapeutin\nDozentin der Integrativen Gesellschaft für ISTDP\nSupervisorin\n\n  \n  \n  \nOrganisation: \nDie Jahresweiterbildung umfasst 5 Wochenenden im Jahr\, jeweils Freitag und Samstag.\n\nVeranstaltungsort: Geschäftsstelle der IG-ISTDP e.V.\, Alttrachau 35\, 01139 Dresden \nTermine und Zeiten \n\n07./08.02.2025\n04./05.04.2025\n27./28.06.2025\n19./20.09.2025\n28./29.11.2025\n\nFreitag  jeweils 15-20 Uhr\, Samstag jeweils 9-18 Uhr \nWeiterbildungspunkte \nsind bei der Ostdeutschen Psychotherapeutenkammer beantragt beantragt und auch für ärztliche PsychotherapeutInnen anrechenbar. \nAnmeldung: bitte per eMail an info@ig-istdp.de \nTeilnahmevoraussetzungen:  \n\nApprobation als ÄrztIn\, PsychotherapeutIn oder Kinder- und JugendlichentherapeutIn oder Nachweis der Erlaubnis zur Ausübung der Heilkunde/Psychotherapie in Verbindung mit einem abgeschlossenen Hochschulstudium.\nBereitschaft zur verbindlichen Teilnahme während eines Jahres.\n\nFür Neueinsteiger ist die kostenpflichtige Teilnahme an einem Wochenende zum Kennenlernen möglich\, sofern freie Plätze vorhanden sind. \nTeilnehmerzahl: \nMax. 15 \nKosten:\n \n1.880\,00 € pro Jahr für Mitglieder der IG-ISTDP e.V.\, 2.000\,00 € pro Jahr für Nichtmitglieder.\nErmäßigung auf Anfrage möglich. Stornierungsbedingungen finden Sie auf unserer Website www.ig-istdp.de. \nDie Teilnahmegebühr überweisen Sie bitte nach Erhalt der Rechnung. \nVerpflegung:\n \nGetränke und Imbiss sind im Preis enthalten.\nGegen einen Unkostenbeitrag von 7\,50 Euro p.P. kann für Samstag ein warmes Mittagessen bestellt werden. \nEine wichtige Bitte: \nBitte lassen Sie sich in unserem elektronischen Verteiler registrieren\, um zukünftig Informationen über Veranstaltungen zu erhalten. Senden Sie uns eine E-Mail unter dem Stichwort „Verteiler“ an info@ig-istdp.de \nZum Datenschutz siehe https://www.ig-istdp.de/datenschutz/ \nDownload Flyer
URL:https://www.zentrum-istdp.de/events/grundkurs-2025-2-4
LOCATION:Geschäftsstelle Zentrum für integrative ISTDP\, Alttrachau 35\, Dresden\, 01139
CATEGORIES:Grundkurs
ATTACH;FMTTYPE=image/png:https://www.zentrum-istdp.de/wp-content/uploads/2022/10/Alttrachau.png
ORGANIZER;CN="Zentrum f%C3%BCr integrative ISTDP":MAILTO:info@ig-istdp.de
END:VEVENT
BEGIN:VEVENT
DTSTART;TZID=Europe/Paris:20250926T150000
DTEND;TZID=Europe/Paris:20250927T180000
DTSTAMP:20260424T232050
CREATED:20240727T072511Z
LAST-MODIFIED:20250114T062710Z
UID:4504-1758898800-1758996000@www.zentrum-istdp.de
SUMMARY:Themenseminar: Interventionsmöglichkeiten mit  ISTDP bei  suizidalen Patienten
DESCRIPTION:Alles verändert sich mit dem\, der neben mir ist oder neben mir fehlt.\nSylke- Maria Pohl \n\nInterventionsmöglichkeiten mit  ISTDP bei  suizidalen Patienten in der psychotherapeutischen Praxis und der rechtliche Rahmen für\nsicheres therapeutisches Handeln in Gefährdungssituationen\n \nIn unserem therapeutischen Alltag gehen wir Therapeuten verbindliche Beziehungen auf Zeit mit unseren Patienten ein. Wir geben einen Vertrauensvorschuss und bieten unsere Nähe und emotionale Begleitung an. Geraten „unsere“ Patienten dennoch  in Lebenskrisen mit suizidalen Absichten\, bringt das unser Selbstverständnis als  hilfreiche Helfer ins Wanken. Wir sind machtlos gegenüber der Entscheidung des Patienten\, der seinerseits ebenso mächtig wie machtlos ist. \nAngst macht sich in der therapeutischen Beziehung breit\, wo doch Klarheit und Gemeinsamkeit so wichtig wären. \n  \n  \nDie ISTDP als aktives\, veränderungsorientiertes Verfahren bietet einige Interventionsmöglichkeiten\, die aus der Angst und der Machtlosigkeit herausführen können. Diese werden im Seminar mittels Videopräsentationen demonstriert und erläutert. Anschließend können diese Interventionsmöglichkeiten im Rollenspiel erprobt und geübt werden. \n  \n  \n  \n\nEin zweiter Schwerpunkt ist die Auseinandersetzung mit Situationen\, in denen wir die suizidalen Impulse von PatientInnen nicht auflösen können. Hier geht es um unsere eigenen Ängste und  (Selbst-)Vorwürfe und um klares und schnelles Handeln im Rahmen der Rechtsnormen. \nHierfür ist es wichtig\, den rechtlichen Rahmen zu kennen\, in dem wir klar und rechtssicher handeln können.\nRA Jens Hänsch wird die Möglichkeiten und Risiken unseres Handelns in solchen Situationen ausführlich erläutern und uns darüber aufklären\, was wir bei realer Gefahr der Selbsttötung eines Patienten im Rahmen der Rechtsnormen tun müssen. \n\nWissenschaftliche Leitung:  \nDipl.-Psych. Yvonne Hänsch \n\nTiefenpsychologisch fundierte Psychotherapie\nGeprüfte Transaktionsanalytikerin\nSupervisorin\nDozentin der Integrativen Gesellschaft für ISTDP\n\n  \nRA Jens Hänsch \n\nRechtsanwalt in eigener zivil– und familienrechtlich orientierter Kanzlei\n\n  \n  \n  \n  \n\nVeranstaltungsort: Geschäftsstelle der IG-ISTDP e.V.\, Alttrachau 35\, 01139 Dresden \nTermine und Zeiten \n\n26.09.2025 15-20 Uhr\n27.09.2022 09-18 Uhr\n\nWeiterbildungspunkte \nsind bei der Ostdeutschen Psychotherapeutenkammer beantragt beantragt und auch für ärztliche PsychotherapeutInnen anrechenbar. \nAnmeldung: bitte per eMail an info@ig-istdp.de \nZielgruppe: \n\nTeilnehmer der Ausbildungsgruppen des Zentrums für integrative ISTDP\nMitglieder anderer ISTDP-Gesellschaften\nTeilnehmer ohne Vorkenntnisse in ISTDP\, die sich für das Verfahren interessieren\n\nKosten:\n \n400\,00 € \nbitte überweisen Sie nach Erhalt der Rechnung \nVerpflegung:\n \nGetränke und Imbiss sind im Preis enthalten. \nGegen einen Unkostenbeitrag von 7\,50 Euro p.P. kann für Samstag ein warmes Mittagessen bestellt werden. \nEine wichtige Bitte: \nBitte lassen Sie sich in unserem elektronischen Verteiler registrieren\, um zukünftig Informationen über Veranstaltungen zu erhalten. Senden Sie uns eine E-Mail unter dem Stichwort „Verteiler“ an info@ig-istdp.de \nZum Datenschutz siehe https://www.ig-istdp.de/datenschutz/ \nDownload Flyer \n  \n  \n  \n 
URL:https://www.zentrum-istdp.de/events/themenseminar
CATEGORIES:Thematische Veranstaltungen
ATTACH;FMTTYPE=image/png:https://www.zentrum-istdp.de/wp-content/uploads/2022/10/Alttrachau.png
ORGANIZER;CN="Zentrum f%C3%BCr integrative ISTDP":MAILTO:info@ig-istdp.de
END:VEVENT
END:VCALENDAR