BEGIN:VCALENDAR
VERSION:2.0
PRODID:-//Zentrum für integrative ISTDP - ECPv6.15.20//NONSGML v1.0//EN
CALSCALE:GREGORIAN
METHOD:PUBLISH
X-WR-CALNAME:Zentrum für integrative ISTDP
X-ORIGINAL-URL:https://www.zentrum-istdp.de
X-WR-CALDESC:Veranstaltungen für Zentrum für integrative ISTDP
REFRESH-INTERVAL;VALUE=DURATION:PT1H
X-Robots-Tag:noindex
X-PUBLISHED-TTL:PT1H
BEGIN:VTIMEZONE
TZID:Europe/Paris
BEGIN:DAYLIGHT
TZOFFSETFROM:+0100
TZOFFSETTO:+0200
TZNAME:CEST
DTSTART:20240331T010000
END:DAYLIGHT
BEGIN:STANDARD
TZOFFSETFROM:+0200
TZOFFSETTO:+0100
TZNAME:CET
DTSTART:20241027T010000
END:STANDARD
BEGIN:DAYLIGHT
TZOFFSETFROM:+0100
TZOFFSETTO:+0200
TZNAME:CEST
DTSTART:20250330T010000
END:DAYLIGHT
BEGIN:STANDARD
TZOFFSETFROM:+0200
TZOFFSETTO:+0100
TZNAME:CET
DTSTART:20251026T010000
END:STANDARD
BEGIN:DAYLIGHT
TZOFFSETFROM:+0100
TZOFFSETTO:+0200
TZNAME:CEST
DTSTART:20260329T010000
END:DAYLIGHT
BEGIN:STANDARD
TZOFFSETFROM:+0200
TZOFFSETTO:+0100
TZNAME:CET
DTSTART:20261025T010000
END:STANDARD
END:VTIMEZONE
BEGIN:VEVENT
DTSTART;TZID=Europe/Paris:20251107T150000
DTEND;TZID=Europe/Paris:20251108T180000
DTSTAMP:20260424T202339
CREATED:20240727T071756Z
LAST-MODIFIED:20241208T131031Z
UID:4498-1762527600-1762624800@www.zentrum-istdp.de
SUMMARY:Aufbaukurs 2025.5
DESCRIPTION:Intensive Psychodynamische Kurzzeittherapie (ISTDP) \nDie ISTDP nach Davanloo ist ein videogestütztes\, psychodynamisches\, emotions- und übertragungsfokussiertes Therapieverfahren\, welches  sich durch seine hohe Effizienz auszeichnet. \nBesonderen Wert legen wir auf eine offene\, kollegiale Atmosphäre. Damit wird ein entspanntes\, lehrreiches Arbeiten und Lernen mit dem Videomaterial möglich. \nInhalte: \nDie Struktur des Aufbaukurses besteht aus Video– und Theoriepräsentationen der Dozentin und der TeilnehmerInnen\, Trainingseinheiten und Supervisionseinheiten. \nDer präzise Umgang mit Angst und Widerständen wird intensiv trainiert. Die Themenauswahl  erfolgt in Abstimmung mit den TeilnehmerInnen. Die TeilnehmerInnen bringen regelmäßig Videomaterial ihrer Arbeit zur Supervision mit. \nWissenschaftliche Leitung:  \nDipl.-Psych. Yvonne Hänsch \n\nTiefenpsychologisch fundierte Psychotherapie\nGeprüfte Transaktionsanalytikerin\nSupervisorin BDP\nDozentin der Integrativen Gesellschaft für ISTDP\n\nDr. Lutz Schneider\n \n\nTiefenpsychologisch fundierte und analytische Psychotherapie\ngeprüfter ISTDP-Therapeut\nSupervisor\n\n  \nOrganisation: \nDie Jahresweiterbildung umfasst 5 Wochenenden im Jahr\, jeweils Freitag und Samstag.\n\nVeranstaltungsort: Geschäftsstelle der IG-ISTDP e.V.\, Alttrachau 35\, 01139 Dresden \nTermine und Zeiten \n\n24./25.01.2025\n28./29.03.2025\n23./24.05.2025\n05./06.09.2025\n07./08.11.2025\n\nFreitag  jeweils 15-20 Uhr\, Samstag jeweils 9-18 Uhr \nWeiterbildungspunkte \nsind bei der Ostdeutschen Psychotherapeutenkammer beantragt beantragt und auch für ärztliche PsychotherapeutInnen anrechenbar. \nAnmeldung: bitte per eMail an info@ig-istdp.de \nTeilnahmevoraussetzungen:  \n\nApprobation als ÄrztIn\, PsychotherapeutIn oder Kinder- und JugendlichentherapeutIn oder Nachweis der Erlaubnis zur Ausübung der Heilkunde/Psychotherapie in Verbindung mit einem abgeschlossenen Hochschulstudium.\nBereitschaft zur verbindlichen Teilnahme während eines Jahres.\nMindestens 2-jährige Ausbildung im Grundkurs oder vergleichbare Ausbildung in ISTDP.\n\nTeilnehmerzahl: \nMax. 15 \nKosten:\n \n1.880\,00 € pro Jahr für Mitglieder der IG-ISTDP e.V.\, 2.000\,00 € pro Jahr für Nichtmitglieder.\nErmäßigung auf Anfrage möglich. Stornierungsbedingungen finden Sie auf unserer Website www.ig-istdp.de. \nDie Teilnahmegebühr überweisen Sie bitte nach Erhalt der Rechnung. \nVerpflegung:\n \nGetränke und Imbiss sind im Preis enthalten.\nGegen einen Unkostenbeitrag von 7\,50 Euro p.P. kann für Samstag ein warmes Mittagessen bestellt werden. \nEine wichtige Bitte: \nBitte lassen Sie sich in unserem elektronischen Verteiler registrieren\, um zukünftig Informationen über Veranstaltungen zu erhalten. Senden Sie uns eine E-Mail unter dem Stichwort „Verteiler“ an info@ig-istdp.de \nZum Datenschutz siehe https://www.ig-istdp.de/datenschutz/ \nDownload Flyer \n 
URL:https://www.zentrum-istdp.de/events/aufbaukurs-2025-5
LOCATION:Geschäftsstelle Zentrum für integrative ISTDP\, Alttrachau 35\, Dresden\, 01139
CATEGORIES:Aufbaukurs
ATTACH;FMTTYPE=image/png:https://www.zentrum-istdp.de/wp-content/uploads/2022/10/Alttrachau.png
ORGANIZER;CN="Zentrum f%C3%BCr integrative ISTDP":MAILTO:info@ig-istdp.de
END:VEVENT
BEGIN:VEVENT
DTSTART;TZID=Europe/Paris:20251114T150000
DTEND;TZID=Europe/Paris:20251115T180000
DTSTAMP:20260424T202339
CREATED:20240727T070846Z
LAST-MODIFIED:20241214T083427Z
UID:4488-1763132400-1763229600@www.zentrum-istdp.de
SUMMARY:Grundkurs 2025-1.5
DESCRIPTION:Intensive Psychodynamische Kurzzeittherapie (ISTDP) \nDie ISTDP nach Davanloo ist ein videogestütztes\, psychodynamisches\, emotions- und übertragungsfokussiertes Therapieverfahren\, welches  sich durch seine hohe Effizienz auszeichnet. \nBesonderen Wert legen wir auf eine offene\, kollegiale Atmosphäre. Damit wird ein entspanntes\, lehrreiches Arbeiten und Lernen mit dem Videomaterial möglich. \nInhalte: \nIm  Kurs werden systematisch Technik und Metapsychologie der Intensiven Psychodynamischen Kurzzeittherapie nach Davanloo vermittelt.  Jeder Teilnehmer erhält außerdem an jedem Ausbildungswochenende die Möglichkeit\, Supervision für die eigene Arbeit zu erhalten. Dafür werden mitgebrachte Videoaufzeichnungen und auch Rollenspiele genutzt. Wir achten besonders auf sehr praxisnahe Vermittlung der Methode.\n\nWissenschaftliche Leitung:  \nDipl.-Psych. Yvonne Hänsch \n\nTiefenpsychologisch fundierte Psychotherapie\nGeprüfte Transaktionsanalytikerin\nSupervisorin\nDozentin der Integrativen Gesellschaft für ISTDP\n\n\nDr. Lutz Schneider \n\nTiefenpsychologisch fundierte und analytische Psychotherapie\ngeprüfter ISTDP-Therapeut\nSupervisor\n\n  \n  \nOrganisation: \nDie Jahresweiterbildung umfasst 5 Wochenenden im Jahr\, jeweils Freitag und Samstag.\n\nVeranstaltungsort: Geschäftsstelle der IG-ISTDP e.V.\, Alttrachau 35\, 01139 Dresden \nTermine und Zeiten \n\n17./18.01.2025\n21./22.03.2025\n09./10.05.2025\n12./13.09.2025\n14./15.11.2025\n\nFreitag  jeweils 15-20 Uhr\, Samstag jeweils 9-18 Uhr \nWeiterbildungspunkte \nsind bei der Ostdeutschen Psychotherapeutenkammer beantragt beantragt und auch für ärztliche PsychotherapeutInnen anrechenbar. \nAnmeldung: bitte per eMail an info@ig-istdp.de \nTeilnahmevoraussetzungen:  \n\nApprobation als ÄrztIn\, PsychotherapeutIn oder Kinder- und JugendlichentherapeutIn oder Nachweis der Erlaubnis zur Ausübung der Heilkunde/Psychotherapie in Verbindung mit einem abgeschlossenen Hochschulstudium.\nBereitschaft zur verbindlichen Teilnahme während eines Jahres.\n\nFür Neueinsteiger ist die kostenpflichtige Teilnahme an einem Wochenende zum Kennenlernen möglich\, sofern freie Plätze vorhanden sind. \nTeilnehmerzahl: \nMax. 15 \nKosten:\n \n1.880\,00 € pro Jahr für Mitglieder der IG-ISTDP e.V.\, 2.000\,00 € pro Jahr für Nichtmitglieder.\nErmäßigung auf Anfrage möglich. Stornierungsbedingungen finden Sie auf unserer Website www.ig-istdp.de. \nDie Teilnahmegebühr überweisen Sie bitte nach Erhalt der Rechnung. \nVerpflegung:\n \nGetränke und Imbiss sind im Preis enthalten.\nGegen einen Unkostenbeitrag von 7\,50 Euro p.P. kann für Samstag ein warmes Mittagessen bestellt werden. \nEine wichtige Bitte: \nBitte lassen Sie sich in unserem elektronischen Verteiler registrieren\, um zukünftig Informationen über Veranstaltungen zu erhalten. Senden Sie uns eine E-Mail unter dem Stichwort „Verteiler“ an info@ig-istdp.de \nZum Datenschutz siehe https://www.ig-istdp.de/datenschutz/ \nDownload Flyer
URL:https://www.zentrum-istdp.de/events/grundkurs-2025-5
LOCATION:Geschäftsstelle Zentrum für integrative ISTDP\, Alttrachau 35\, Dresden\, 01139
CATEGORIES:Grundkurs
ATTACH;FMTTYPE=image/png:https://www.zentrum-istdp.de/wp-content/uploads/2022/10/Alttrachau.png
ORGANIZER;CN="Zentrum f%C3%BCr integrative ISTDP":MAILTO:info@ig-istdp.de
END:VEVENT
BEGIN:VEVENT
DTSTART;TZID=Europe/Paris:20251128T150000
DTEND;TZID=Europe/Paris:20251129T180000
DTSTAMP:20260424T202339
CREATED:20241214T083259Z
LAST-MODIFIED:20241223T090505Z
UID:4577-1764342000-1764439200@www.zentrum-istdp.de
SUMMARY:Grundkurs 2025-2.5
DESCRIPTION:Intensive Psychodynamische Kurzzeittherapie (ISTDP) \nDie ISTDP nach Davanloo ist ein videogestütztes\, psychodynamisches\, emotions- und übertragungsfokussiertes Therapieverfahren\, welches  sich durch seine hohe Effizienz auszeichnet. \nBesonderen Wert legen wir auf eine offene\, kollegiale Atmosphäre. Damit wird ein entspanntes\, lehrreiches Arbeiten und Lernen mit dem Videomaterial möglich. \nInhalte: \nIm  Kurs werden systematisch Technik und Metapsychologie der Intensiven Psychodynamischen Kurzzeittherapie nach Davanloo vermittelt.  Jeder Teilnehmer erhält außerdem an jedem Ausbildungswochenende die Möglichkeit\, Supervision für die eigene Arbeit zu erhalten. Dafür werden mitgebrachte Videoaufzeichnungen und auch Rollenspiele genutzt. Wir achten besonders auf sehr praxisnahe Vermittlung der Methode.\n\nWissenschaftliche Leitung:  \nDipl.-Psych. Yvonne Hänsch \n\nTiefenpsychologisch fundierte Psychotherapie\nGeprüfte Transaktionsanalytikerin\nSupervisorin\nDozentin der Integrativen Gesellschaft für ISTDP\n\n  \nDr. Katrin Dumalin-Kliesow \n\nVerhaltenstherapie (Erwachsene\, Kinder\, Jugendliche)\nGeprüfte ISTDP-Therapeutin\nDozentin der Integrativen Gesellschaft für ISTDP\nSupervisorin\n\n  \n  \n  \nOrganisation: \nDie Jahresweiterbildung umfasst 5 Wochenenden im Jahr\, jeweils Freitag und Samstag.\n\nVeranstaltungsort: Geschäftsstelle der IG-ISTDP e.V.\, Alttrachau 35\, 01139 Dresden \nTermine und Zeiten \n\n07./08.02.2025\n04./05.04.2025\n27./28.06.2025\n19./20.09.2025\n28./29.11.2025\n\nFreitag  jeweils 15-20 Uhr\, Samstag jeweils 9-18 Uhr \nWeiterbildungspunkte \nsind bei der Ostdeutschen Psychotherapeutenkammer beantragt beantragt und auch für ärztliche PsychotherapeutInnen anrechenbar. \nAnmeldung: bitte per eMail an info@ig-istdp.de \nTeilnahmevoraussetzungen:  \n\nApprobation als ÄrztIn\, PsychotherapeutIn oder Kinder- und JugendlichentherapeutIn oder Nachweis der Erlaubnis zur Ausübung der Heilkunde/Psychotherapie in Verbindung mit einem abgeschlossenen Hochschulstudium.\nBereitschaft zur verbindlichen Teilnahme während eines Jahres.\n\nFür Neueinsteiger ist die kostenpflichtige Teilnahme an einem Wochenende zum Kennenlernen möglich\, sofern freie Plätze vorhanden sind. \nTeilnehmerzahl: \nMax. 15 \nKosten:\n \n1.880\,00 € pro Jahr für Mitglieder der IG-ISTDP e.V.\, 2.000\,00 € pro Jahr für Nichtmitglieder.\nErmäßigung auf Anfrage möglich. Stornierungsbedingungen finden Sie auf unserer Website www.ig-istdp.de. \nDie Teilnahmegebühr überweisen Sie bitte nach Erhalt der Rechnung. \nVerpflegung:\n \nGetränke und Imbiss sind im Preis enthalten.\nGegen einen Unkostenbeitrag von 7\,50 Euro p.P. kann für Samstag ein warmes Mittagessen bestellt werden. \nEine wichtige Bitte: \nBitte lassen Sie sich in unserem elektronischen Verteiler registrieren\, um zukünftig Informationen über Veranstaltungen zu erhalten. Senden Sie uns eine E-Mail unter dem Stichwort „Verteiler“ an info@ig-istdp.de \nZum Datenschutz siehe https://www.ig-istdp.de/datenschutz/ \nDownload Flyer
URL:https://www.zentrum-istdp.de/events/grundkurs-2025-2-5
LOCATION:Geschäftsstelle Zentrum für integrative ISTDP\, Alttrachau 35\, Dresden\, 01139
CATEGORIES:Grundkurs
ATTACH;FMTTYPE=image/png:https://www.zentrum-istdp.de/wp-content/uploads/2022/10/Alttrachau.png
ORGANIZER;CN="Zentrum f%C3%BCr integrative ISTDP":MAILTO:info@ig-istdp.de
END:VEVENT
BEGIN:VEVENT
DTSTART;TZID=Europe/Paris:20251129T180000
DTEND;TZID=Europe/Paris:20251206T120000
DTSTAMP:20260424T202339
CREATED:20240727T073201Z
LAST-MODIFIED:20250121T111710Z
UID:4508-1764439200-1765022400@www.zentrum-istdp.de
SUMMARY:Selbsterfahrung auf Fuerteventura 2025.2
DESCRIPTION:Selbsterfahrung  auf Fuerteventura \nIn unserer therapeutischen Arbeit begegnen uns immer wieder Situationen und Schicksale\, die uns erschüttern\, empören\, bewegen und die uns an die Grenze unserer emotionalen Stabilität bringen. Dann müssen wir etwas tun\, um unser Gleichgewicht zu erhalten und unsere Fähigkeiten trainieren\, die Patienten und uns selbst sicher durch diese Situationen zu lotsen. \nIn wohlwollender kollegialer Atmosphäre und in kleinen Gruppen wollen wir dieses unter der wärmenden Sonne Fuerteventuras zusammen üben. \nDie inneren Dynamiken der TeilnehmerInnen werden im Gruppenprozess aktiviert und mittels emotions– und beziehungsfokussierter Arbeit gelöst. \nDie Selbsterfahrung auf Fuerteventura wird im Rahmen des Curriculums zur ISTDP-TherapeutIn anerkannt. \nDie Arbeitszeit beträgt insgesamt 15 Blöcke von je 90 Minuten. Diese werden so aufgeteilt\, dass die TeilnehmerInnen auch Sonne und Meer genießen können\, gemeinsame Aktionen sind ebenfalls möglich. \n  \n\nWissenschaftliche Leitung:  \nDipl.-Psych. Yvonne Hänsch \n\nTiefenpsychologisch fundierte Psychotherapie\nGeprüfte Transaktionsanalytikerin\nSupervisorin BDP\nDozentin der Integrativen Gesellschaft für ISTDP\n\n\nVeranstaltungsort: \nSotavento Beach Club\, \nCosta Calma\, Fuerteventura \nDie Kosten für eine Woche Halbpension im Appartement zu den genannten Terminen inklusive Flug liegen aktuell zwischen ca. 1.100 € (Einzelbelegung) und ca. 800 € (3er bzw. 4er Belegung) pro Person mit Halbpension. \n  \nWir empfehlen die Organisation der Reise über das ReiseCenter Dresden\, Herrn Mario Zieroth sowie den Abschluss einer Reiserücktrittskosten- und Seminarversicherung. \nBitte beachten Sie\, dass es sich bei den Angeboten zum Teil um tagesaktuelle Preise handelt\, welche sich jederzeit ändern können. \n\nZeiten: \n29.11.2025 18:00 – 06.12.2025 12:00 \nZielgruppe: \nTeilnehmerInnen aus den laufenden Weiterbildungsgruppen des Zentrums für integrative ISTDP und andere interessierte KollegInnen nach Vorabsprache. \nDie Teilnahme an diesem Seminar ersetzt keine Therapie oder grundlegende Ausbildung in ISTDP. Die Teilnehmer versichern\, auf eigenes Risiko an der Veranstaltung teilzunehmen. Eine Haftung des Veranstalters ist ausgeschlossen\, soweit nicht das Leben\, der Körper oder die Gesundheit des Teilnehmers betroffen ist oder ein grobes Verschulden des Veranstalters vorliegt. \nTeilnehmerzahl:  \nmindestens 5 und maximal 7 Teilnehmer pro Gruppe \nVeranstalter: \nZentrum für integrative ISTDP\, Alttrachau 35\, 01139 Dresden\nAnmeldung: \nVerbindliche Anmeldung per eMail an Zentrum für integrative ISTDP\, E-Mail info@ig-istdp.de \nDie Stornierungsbedingungen finden Sie auf unserer Website unter www.ig-istdp.de. \nVeranstaltungskosten: \n\n800\,00 € pro Woche für Mitglieder der IG-ISTDP\n850\,00 € pro Woche für Nichtmitglieder\n\nzzgl. Kosten für Unterkunft\, Verpflegung und Anreise. \nBitte überweisen Sie nach Erhalt der Rechnung. \n  \nDownload Flyer \n 
URL:https://www.zentrum-istdp.de/events/selbsterfahrung-auf-fuerteventura-2025-2
LOCATION:Sotavento Beach Club\, Costa Calma\, Fuerteventura\, Avenida Jahn Reisen\, 3\, Pajara - Costa Calma\, 35627\, Spanien
CATEGORIES:Thematische Veranstaltungen
ATTACH;FMTTYPE=image/png:https://www.zentrum-istdp.de/wp-content/uploads/2022/10/Sotavento.png
ORGANIZER;CN="Zentrum f%C3%BCr integrative ISTDP":MAILTO:info@ig-istdp.de
END:VEVENT
END:VCALENDAR