BEGIN:VCALENDAR
VERSION:2.0
PRODID:-//Zentrum für integrative ISTDP - ECPv6.15.20//NONSGML v1.0//EN
CALSCALE:GREGORIAN
METHOD:PUBLISH
X-ORIGINAL-URL:https://www.zentrum-istdp.de
X-WR-CALDESC:Veranstaltungen für Zentrum für integrative ISTDP
REFRESH-INTERVAL;VALUE=DURATION:PT1H
X-Robots-Tag:noindex
X-PUBLISHED-TTL:PT1H
BEGIN:VTIMEZONE
TZID:Europe/Paris
BEGIN:DAYLIGHT
TZOFFSETFROM:+0100
TZOFFSETTO:+0200
TZNAME:CEST
DTSTART:20240331T010000
END:DAYLIGHT
BEGIN:STANDARD
TZOFFSETFROM:+0200
TZOFFSETTO:+0100
TZNAME:CET
DTSTART:20241027T010000
END:STANDARD
BEGIN:DAYLIGHT
TZOFFSETFROM:+0100
TZOFFSETTO:+0200
TZNAME:CEST
DTSTART:20250330T010000
END:DAYLIGHT
BEGIN:STANDARD
TZOFFSETFROM:+0200
TZOFFSETTO:+0100
TZNAME:CET
DTSTART:20251026T010000
END:STANDARD
BEGIN:DAYLIGHT
TZOFFSETFROM:+0100
TZOFFSETTO:+0200
TZNAME:CEST
DTSTART:20260329T010000
END:DAYLIGHT
BEGIN:STANDARD
TZOFFSETFROM:+0200
TZOFFSETTO:+0100
TZNAME:CET
DTSTART:20261025T010000
END:STANDARD
END:VTIMEZONE
BEGIN:VEVENT
DTSTART;TZID=Europe/Paris:20251129T180000
DTEND;TZID=Europe/Paris:20251206T120000
DTSTAMP:20260424T190129
CREATED:20240727T073201Z
LAST-MODIFIED:20250121T111710Z
UID:4508-1764439200-1765022400@www.zentrum-istdp.de
SUMMARY:Selbsterfahrung auf Fuerteventura 2025.2
DESCRIPTION:Selbsterfahrung  auf Fuerteventura \nIn unserer therapeutischen Arbeit begegnen uns immer wieder Situationen und Schicksale\, die uns erschüttern\, empören\, bewegen und die uns an die Grenze unserer emotionalen Stabilität bringen. Dann müssen wir etwas tun\, um unser Gleichgewicht zu erhalten und unsere Fähigkeiten trainieren\, die Patienten und uns selbst sicher durch diese Situationen zu lotsen. \nIn wohlwollender kollegialer Atmosphäre und in kleinen Gruppen wollen wir dieses unter der wärmenden Sonne Fuerteventuras zusammen üben. \nDie inneren Dynamiken der TeilnehmerInnen werden im Gruppenprozess aktiviert und mittels emotions– und beziehungsfokussierter Arbeit gelöst. \nDie Selbsterfahrung auf Fuerteventura wird im Rahmen des Curriculums zur ISTDP-TherapeutIn anerkannt. \nDie Arbeitszeit beträgt insgesamt 15 Blöcke von je 90 Minuten. Diese werden so aufgeteilt\, dass die TeilnehmerInnen auch Sonne und Meer genießen können\, gemeinsame Aktionen sind ebenfalls möglich. \n  \n\nWissenschaftliche Leitung:  \nDipl.-Psych. Yvonne Hänsch \n\nTiefenpsychologisch fundierte Psychotherapie\nGeprüfte Transaktionsanalytikerin\nSupervisorin BDP\nDozentin der Integrativen Gesellschaft für ISTDP\n\n\nVeranstaltungsort: \nSotavento Beach Club\, \nCosta Calma\, Fuerteventura \nDie Kosten für eine Woche Halbpension im Appartement zu den genannten Terminen inklusive Flug liegen aktuell zwischen ca. 1.100 € (Einzelbelegung) und ca. 800 € (3er bzw. 4er Belegung) pro Person mit Halbpension. \n  \nWir empfehlen die Organisation der Reise über das ReiseCenter Dresden\, Herrn Mario Zieroth sowie den Abschluss einer Reiserücktrittskosten- und Seminarversicherung. \nBitte beachten Sie\, dass es sich bei den Angeboten zum Teil um tagesaktuelle Preise handelt\, welche sich jederzeit ändern können. \n\nZeiten: \n29.11.2025 18:00 – 06.12.2025 12:00 \nZielgruppe: \nTeilnehmerInnen aus den laufenden Weiterbildungsgruppen des Zentrums für integrative ISTDP und andere interessierte KollegInnen nach Vorabsprache. \nDie Teilnahme an diesem Seminar ersetzt keine Therapie oder grundlegende Ausbildung in ISTDP. Die Teilnehmer versichern\, auf eigenes Risiko an der Veranstaltung teilzunehmen. Eine Haftung des Veranstalters ist ausgeschlossen\, soweit nicht das Leben\, der Körper oder die Gesundheit des Teilnehmers betroffen ist oder ein grobes Verschulden des Veranstalters vorliegt. \nTeilnehmerzahl:  \nmindestens 5 und maximal 7 Teilnehmer pro Gruppe \nVeranstalter: \nZentrum für integrative ISTDP\, Alttrachau 35\, 01139 Dresden\nAnmeldung: \nVerbindliche Anmeldung per eMail an Zentrum für integrative ISTDP\, E-Mail info@ig-istdp.de \nDie Stornierungsbedingungen finden Sie auf unserer Website unter www.ig-istdp.de. \nVeranstaltungskosten: \n\n800\,00 € pro Woche für Mitglieder der IG-ISTDP\n850\,00 € pro Woche für Nichtmitglieder\n\nzzgl. Kosten für Unterkunft\, Verpflegung und Anreise. \nBitte überweisen Sie nach Erhalt der Rechnung. \n  \nDownload Flyer \n 
URL:https://www.zentrum-istdp.de/events/selbsterfahrung-auf-fuerteventura-2025-2
LOCATION:Sotavento Beach Club\, Costa Calma\, Fuerteventura\, Avenida Jahn Reisen\, 3\, Pajara - Costa Calma\, 35627\, Spanien
CATEGORIES:Thematische Veranstaltungen
ATTACH;FMTTYPE=image/png:https://www.zentrum-istdp.de/wp-content/uploads/2022/10/Sotavento.png
ORGANIZER;CN="Zentrum f%C3%BCr integrative ISTDP":MAILTO:info@ig-istdp.de
END:VEVENT
END:VCALENDAR