BEGIN:VCALENDAR
VERSION:2.0
PRODID:-//Zentrum für integrative ISTDP - ECPv6.15.20//NONSGML v1.0//EN
CALSCALE:GREGORIAN
METHOD:PUBLISH
X-WR-CALNAME:Zentrum für integrative ISTDP
X-ORIGINAL-URL:https://www.zentrum-istdp.de
X-WR-CALDESC:Veranstaltungen für Zentrum für integrative ISTDP
REFRESH-INTERVAL;VALUE=DURATION:PT1H
X-Robots-Tag:noindex
X-PUBLISHED-TTL:PT1H
BEGIN:VTIMEZONE
TZID:Europe/Paris
BEGIN:DAYLIGHT
TZOFFSETFROM:+0100
TZOFFSETTO:+0200
TZNAME:CEST
DTSTART:20250330T010000
END:DAYLIGHT
BEGIN:STANDARD
TZOFFSETFROM:+0200
TZOFFSETTO:+0100
TZNAME:CET
DTSTART:20251026T010000
END:STANDARD
BEGIN:DAYLIGHT
TZOFFSETFROM:+0100
TZOFFSETTO:+0200
TZNAME:CEST
DTSTART:20260329T010000
END:DAYLIGHT
BEGIN:STANDARD
TZOFFSETFROM:+0200
TZOFFSETTO:+0100
TZNAME:CET
DTSTART:20261025T010000
END:STANDARD
BEGIN:DAYLIGHT
TZOFFSETFROM:+0100
TZOFFSETTO:+0200
TZNAME:CEST
DTSTART:20270328T010000
END:DAYLIGHT
BEGIN:STANDARD
TZOFFSETFROM:+0200
TZOFFSETTO:+0100
TZNAME:CET
DTSTART:20271031T010000
END:STANDARD
END:VTIMEZONE
BEGIN:VEVENT
DTSTART;TZID=Europe/Paris:20261211T150000
DTEND;TZID=Europe/Paris:20261212T180000
DTSTAMP:20260424T130057
CREATED:20250831T120242Z
LAST-MODIFIED:20250831T120352Z
UID:4790-1797001200-1797098400@www.zentrum-istdp.de
SUMMARY:Core Group und Gäste 2026.5 - Einer für alle und alle für einen – das Potential der Intensiven psychodynamischen Kurzzeittherapie (ISTDP) in der Gruppenarbeit nutzen
DESCRIPTION:Einer für alle und alle für einen – das Potential der Intensiven psychodynamischen Kurzzeittherapie (ISTDP) in der Gruppenarbeit nutzen\nIn diesem Seminar stellen wir unsere gesammelten Erkenntnisse und Erfahrungen aus 6 Jahren Anwendung von ISTDP in der ambulanten Therapiegruppe vor und geben einen Einblick in unsere Arbeit. Zugleich möchten wir KollegInnen ermutigen\, das große Potential der Anwendung von ISTDP in der Gruppe zu nutzen. \nVoraussetzung für die Anwendung von ISTDP in der Gruppe sind vertiefte Kenntnisse und Erfahrungen in der ISTDP-Einzeltherapie. \nDas Kernstück der vorgestellten Gruppenpsychotherapie ist die Einzelarbeit von einer TherapeutIn mit einer PatientIn in der Gruppe. Die dabei entstehenden vielfältigen Gruppenphänomene sind sehr wertvoll und stellen ein großes Potential an effektiven Interventionsmöglichkeiten dar. Die pathogene innere Dynamik unserer PatientInnen\, welche die psychische Symptomatik auslöst und aufrechterhält\, wird im Gruppenprozess umfassender deutlich als im Einzelsetting. Auch KollegInnen\, die (noch) nicht mit Gruppen arbeiten\, können ein erweitertes Verständnis für die pathogene Dynamik ihrer PatientInnen erhalten. \nDas Seminar besteht aus einem Theorieteil\, in dem wir insbesondere unsere Erfahrungen der letzten Jahre mit Ihnen teilen\, verschiedenen Videofacetten aus unseren Gruppen und je nach Wunsch der TeilnehmerInnen auch aus einer Selbsterfahrungseinheit und Videosupervisionen von Videos der TeilnehmerInnen. \nBei ausreichend Interesse sind für 2027 vertiefende Kurse geplant. \n  \nWissenschaftliche Leitung: \n\nDipl.-Psych. Yvonne Hänsch \n\ntiefenpsychologisch fundierte Psychotherapie ·\nDozentin des Zentrums für integrative ISTDP\nGeprüfte Transaktionsanalytikerin\nSupervisorin und Selbsterfahrungsleiterin  aap\, MAPP\, SAP\, WIAP\, ZIST\n\n  \nWeiterer Dozent \n \nDr. Lutz Schneider \n\nTiefenpsychologisch fundierte und analytische Psychotherapie\nGeprüfter ISTDP-Therapeut des Zentrums für integrative ISTDP\nSupervisor ZIST\n\n  \n  \n\nVeranstaltungsort: Geschäftsstelle des Zentrums für integrative ISTDP\, Alttrachau 35\, 01139 Dresden \nTermine und Zeiten \n\n11.12.2026 15-20 Uhr\n12.12.2026 09-18 Uhr\n\n  \nWeiterbildungspunkte \nsind bei der Ostdeutschen Psychotherapeutenkammer beantragt beantragt und auch für ärztliche PsychotherapeutInnen anrechenbar. \n  \nAnmeldung: bitte per eMail an info@zentrum-istdp.de \n  \nTeilnahmevoraussetzungen:  \nApprobation als ÄrztIn\, PsychotherapeutIn oder Kinder- und JugendlichentherapeutIn oder Nachweis der Erlaubnis zur Ausübung der Heilkunde/Psychotherapie in Verbindung mit einem abgeschlossenen Hochschulstudium im medizinisch-sozialen Bereich; PsychotherapeutInnen in Approbationsausbildung \n  \nTeilnehmerzahl: \nmax. 15 \nKosten: \n450\,00 Euro \nErmäßigung auf Anfrage möglich. Stornierungsbedingungen finden Sie auf unserer Website. \nDie Teilnahmegebühr überweisen Sie bitte nach Erhalt der Rechnung. \nVerpflegung:\nGetränke und Imbiss sind im Preis enthalten.\nGegen einen Unkostenbeitrag von 7\,50 Euro p. P. kann für Samstag ein warmes Mittagessen bestellt werden. \n  \nZum Datenschutz siehe https://www.zentrum-istdp.de/datenschutz/ \nDownload Flyer \n  \n  \n 
URL:https://www.zentrum-istdp.de/events/core-group-und-gaeste-2026-5-einer-fuer-alle-und-alle-fuer-einen-das-potential-der-intensiven-psychodynamischen-kurzzeittherapie-istdp-in-der-gruppenarbeit-nutzen
LOCATION:Geschäftsstelle Zentrum für integrative ISTDP\, Alttrachau 35\, Dresden\, 01139
CATEGORIES:Thematische Veranstaltungen
ATTACH;FMTTYPE=image/png:https://www.zentrum-istdp.de/wp-content/uploads/2022/10/Alttrachau.png
ORGANIZER;CN="Zentrum f%C3%BCr integrative ISTDP":MAILTO:info@ig-istdp.de
END:VEVENT
END:VCALENDAR